BEGIN:VCALENDAR
VERSION:2.0
PRODID:-//Miundo Misingi Hub - ECPv6.15.20//NONSGML v1.0//EN
CALSCALE:GREGORIAN
METHOD:PUBLISH
X-WR-CALNAME:Miundo Misingi Hub
X-ORIGINAL-URL:https://miundomisingi.com
X-WR-CALDESC:Events for Miundo Misingi Hub
REFRESH-INTERVAL;VALUE=DURATION:PT1H
X-Robots-Tag:noindex
X-PUBLISHED-TTL:PT1H
BEGIN:VTIMEZONE
TZID:UTC
BEGIN:STANDARD
TZOFFSETFROM:+0000
TZOFFSETTO:+0000
TZNAME:UTC
DTSTART:20240101T000000
END:STANDARD
END:VTIMEZONE
BEGIN:VEVENT
DTSTART;VALUE=DATE:20251021
DTEND;VALUE=DATE:20251023
DTSTAMP:20260423T163614
CREATED:20250819T094849Z
LAST-MODIFIED:20250826T164501Z
UID:227192-1761004800-1761177599@miundomisingi.com
SUMMARY:Workshop on development of a sustainable tolling ecosystem for Africa
DESCRIPTION:This event has passed. \n				\n				\n		\n		\n				\n				\n					\n		\n			October 21\n\n		\n	\n	 - \n\n	October 22\n\n	\n				\n				\n				\n				\n						\n		\n			Background and rationale\n		\n		\n						\n				\n				\n				\n						\n		\n			Africa’s transport infrastructure gap continues to widen\, as many countries face a substantial and growing road infrastructure funding gap.  It has been noted that there is an estimated financing requirement of approximately $1.3-1.7 trillion over the next ten years and traditional funding sources\, such as public funds and fuel levies\, are no longer sufficient due to stagnant fuel levy collections\, increasing vehicle fuel efficiency\, and the shift towards electric vehicles. \n		\n		\n						\n				\n				\n				\n						\n		\n			With road networks requiring sustainable financing models to keep pace with rising demand from population growth\, urbanization\, and regional trade expansion\, tolling\, when designed and implemented effectively\, is a viable user-pay mechanism that can reduce pressure on public budgets\, attract private investment\, and ensure long-term maintenance of road assets.  It is clear that many African countries are seeking to tap into the benefits that tolling provides as there are almost 20 tolling projects at early construction or development stages across Africa which presents a unique opportunity to shape the operational frameworks before these projects go live. Despite the investment momentum\, tolling in Africa remains fragmented\, with inconsistent technical standards\, tariff-setting approaches\, enforcement mechanisms\, and customer service models. These gaps risk undermining the financial sustainability of projects\, investor confidence\, and public acceptance. \n		\n		\n						\n				\n				\n				\n						\n		\n			This two-day workshop brings together key tolling suppliers and operators\, government agencies\, lenders and other key stakeholders to showcase how to design\, implement and operate a sustainable tolling ecosystem that can be a catalyst for infrastructure financing and development in Africa. \n		\n		\n						\n				\n				\n				\n							\n			\n		\n						\n				\n		\n		\n				\n				\n							\n			\n				\n\n											Register to attend													\n											\n\n					\n												\n							Register to attend													\n											\n\n				\n			\n		 						\n				\n				\n		\n				\n				\n					\n	« All Events\n 				\n				\n				\n				\n				\n		\n		\n				\n				\n						\n		\n			Key Discussion Topics \n		\n		\n						\n				\n				\n				\n						\n		\n			The workshop will cover a wide range of topics to ensure a comprehensive discussion including:  \n		\n		\n						\n				\n				\n				\n					State of tolling in Africa: trends\, challenges and opportunitiesLegal and institutional frameworks for tolling: Roles of various government agencies.Tolling models and revenue mechanismsDesigning sustainable tolling ecosystems & tariff setting: Cost recovery\, public willingness-to-pay\, inflation indexing\, and payment variations during peak and non-peak hours.Social equity and inclusion: Exploring support for local users\, public service vehicles\, and marginalized groups.Selection of technology and systems; Case for interoperability Enforcement and penaltiesEnvironmental sensitivity and green vehicle incentives.Monitoring\, evaluation\, and revenue transparency mechanisms.Case for national clearing houses				\n				\n				\n				\n						\n		\n			Who Should Attend\n		\n		\n						\n				\n				\n				\n					Officials from tolling operatorsTolling systems and solutions providersGovernment officials and policy makersToll collection and management agenciesInfrastructure consultantsInfrastructure lendersRepresentatives of road user and logistics associationsAcademia and research institutionsMedia representativesCivil society organizationsDevelopment partners				\n				\n				\n				\n					\n	\n		\n\n	\n	Add to calendar	\n		\n	\n\n		\n			\n									\n	Google Calendar\n\n									\n	iCalendar\n\n									\n	Outlook 365\n\n									\n	Outlook Live
URL:https://miundomisingi.com/event/workshop-on-development-of-a-sustainable-tolling-ecosystem-for-africa/
LOCATION:Radisson Blu Hotel\, Nairobi\, Kenya
ATTACH;FMTTYPE=image/jpeg:https://miundomisingi.com/wp-content/uploads/2025/08/Workshop-Tolling.jpg
END:VEVENT
END:VCALENDAR